Workbook
Name TotalMonthlyExpenses: 'YEARLY DASHBOARD'!$F$8
Name TotalMonthlyExpenses: #REF!
Name TotalMonthlyIncome: 'YEARLY DASHBOARD'!$F$5
Name TotalMonthlyIncome: #REF!
Name TotalMonthlySavings: 'YEARLY DASHBOARD'!$F$11
Name TotalMonthlySavings: #REF!

Sheet INSTRUCTIONS
A1: HOW TO USE YOUR NEW ANNUAL BUDGET
B3: Access our digital budget planner tutorial & get the most out of your new budget | F3: VIDEO TUTORIAL LINK
B5: MENU | D5: YEARLY DASHBOARD | F5: MONTHLY TABS
B6: The menu will navigate you to all 12 months of your budget, the Yearly Dashboard Summary and the user tutorial | D6: The Yearly Dashboard will auto calculate your spending, savings, income, etc, from each of the months on the spreadsheet. It will automatically track your yearly progress as you input your numbers into each calendar month. | F6: You will have a tab for each month of budgeting, we always start with a blank slate month over month so you can make adjustments to your "budgeted" numbers while recording your acutal spending. This process will truly help you assess and adjust your budget as needed.
B8: Step 1: | D8: Start by selecting the month, that is the first tab you will begin working in. NOTE: This will be based on when you start using the budget, the yearly dashboard will auto-populate for you no matter what month of the year you start in.
B10: Step 2: | D10: Collect your last month of pay statements, current bank account and credit card statements. Login to your online banking or use hard copy statements, whichever option will be easiest for you to review and work with as you start setting up your budget.
B12: Step 3: | D12: Start filing out your estimated income, estimated savings and your "Expenses" by category. Each of the category items can be edited, feel free to adjust any of the placeholders we have for you. (rent, car loan, etc). This is your budget, do it your way!
B14: Step 4: | D14: Begin documenting any one-time expenses, for example, your Amazon Prime membership of $119 is due on August 1st each year. That needs to be allocated in your August monthly budget tab. Do this for all one-time expenses, (car insurance, yearly subscription costs, etc.).
B16: Step 5: | D16: Try using one or two payment methods for the month, this will allow you to document all of your spending in one place. If you need help sticking to a specific spending category, i.e. free spending. Use a cash envelope for the free spending budget, go to the bank, withdraw the funds and use a cash envelope to manage your spending for the month. You can do this for ANY categories on your budget that might be a cause for overspending.
B18: Step 6: | D18: Complete your budget each month, review your spending and the areas you can improve upon. Track your yearly progress using the Yearly Dashboard and stay on top of your numbers. At the beginning of each month, setup your "estimated budget" and track it throughout the month. Spending 20-25 minutes a week reviewing your budget, updating your spending numbers and keeping yourself accountable to your numbers.
B20: *NOTE* | D20: Budgeting takes time, it won't be perfect and that is 100% okay! The point of a budget is to help you roadmap to your goals. Work on it monthly, every time you do it will get easier and faster to complete.
B22: © 2025, Financial Footwork Inc.

Sheet MENU
B2: DIGITAL BUDGET MENU
C3: NAVIGATE TO ANY TAB ON YOUR BUDGET FROM THIS MENU | G3: WATCH THE BUDGETING VIDEO TUTORIAL HERE
B5: YEARLY SUMMARY LINK
C7: JANUARY BUDGET | E7: APRIL BUDGET | G7: JULY BUDGET | I7: OCTOBER BUDGET
C9: FEBRUARY BUDGET | E9: MAY BUDGET | G9: AUGUST BUDGET | I9: NOVEMBER BUDGET
C11: MARCH BUDGET | E11: JUNE BUDGET | G11: SEPTEMBER BUDGET | I11: DECEMBER BUDGET
B13: FOLLOW US AND STAY UPDATED!
B14: FINANCIAL FOOTWORK INSTAGRAM | G14: FINANCIAL FOOTWORK YOUTUBE
B15: FINANCIAL FOOTWORK WEBSITE
B16: © 2025, Financial Footwork Inc.

Sheet YEARLY DASHBOARD
B2: YEARLY FINANCIAL DASHBOARD | L2: www.financialfootwork.com
B4: YEARLY BUDGET SUMMARY | H4: YEARLY SAVINGS SUMMARY
B5: TOTAL INCOME | C5: PERCENTAGE OF INCOME SAVED & SPENT | H5: ACCOUNT | J5: BALANCE
B6: =SUM(JANUARY!D14+FEBRUARY!D14+MARCH!D14+APRIL!D14+MAY!D14+JUNE!D14+JULY!D14+AUGUST!D14+SEPTEMBER!D14+OCTOBER!D14+NOVEMBER!D14+DECEMBER!D14) -> 0 | H6: Emergency Fund | J6: =SUM(JANUARY!O36+FEBRUARY!O36+MARCH!O36+APRIL!O36+MAY!O36+JUNE!O36+JULY!O36+AUGUST!O36+SEPTEMBER!O36+OCTOBER!O36+NOVEMBER!O36+DECEMBER!O36) -> 0
B8: TOTAL SPENDING | H8: Short-term Savings | J8: =SUM(JANUARY!O37+FEBRUARY!O37+MARCH!O37+APRIL!O37+MAY!O37+JUNE!O37+JULY!O37+AUGUST!O37+SEPTEMBER!O37+OCTOBER!O37+NOVEMBER!O37+DECEMBER!O37) -> 0
B9: =SUM(JANUARY!L8+FEBRUARY!L8+MARCH!L8+APRIL!L8+MAY!L8+JUNE!L8+JULY!L8+AUGUST!L8+SEPTEMBER!L8+OCTOBER!L8+NOVEMBER!L8+DECEMBER!L8) -> 0 | H9: Long Term Savings | J9: =SUM(JANUARY!I8+FEBRUARY!I8+MARCH!I8+APRIL!I8+MAY!I8+JUNE!I8+JULY!I8+AUGUST!I8+SEPTEMBER!I8+OCTOBER!I8+NOVEMBER!I8+DECEMBER!I8) -> 0
B11: CASH LEFT OVER | H11: Stocks | J11: =SUM(JANUARY!I9+FEBRUARY!I9+MARCH!I9+APRIL!I9+MAY!I9+JUNE!I9+JULY!I9+AUGUST!I9+SEPTEMBER!I9+OCTOBER!I9+NOVEMBER!I9+DECEMBER!I9) -> 0
B12: =SUM(B6-B9) -> 0 | H12: Retirement | J12: =SUM(JANUARY!I10+FEBRUARY!I10+MARCH!I10+APRIL!I10+MAY!I10+JUNE!I10+JULY!I10+AUGUST!I10+SEPTEMBER!I10+OCTOBER!I10+NOVEMBER!I10+DECEMBER!I10) -> 0
B14: TOTAL DEBT PAYMENTS | H14: Goal-Savings | J14: =SUM(JANUARY!I11+FEBRUARY!I11+MARCH!I11+APRIL!I11+MAY!I11+JUNE!I11+JULY!I11+AUGUST!I11+SEPTEMBER!I11+OCTOBER!I11+NOVEMBER!I11+DECEMBER!I11) -> 0
B15: =SUM(JANUARY!L14+FEBRUARY!L14+MARCH!L14+APRIL!L14+MAY!L14+JUNE!L14+JULY!L14+AUGUST!L14+SEPTEMBER!L14+OCTOBER!L14+NOVEMBER!L14+DECEMBER!L14) -> 0 | H15: Other | J15: =SUM(JANUARY!I12+FEBRUARY!I12+MARCH!I12+APRIL!I12+MAY!I12+JUNE!I12+JULY!I12+AUGUST!I12+SEPTEMBER!I12+OCTOBER!I12+NOVEMBER!I12+DECEMBER!I12) -> 0
H16: Other | J16: =SUM(JANUARY!I13+FEBRUARY!I13+MARCH!I13+APRIL!I13+MAY!I13+JUNE!I13+JULY!I13+AUGUST!I13+SEPTEMBER!I13+OCTOBER!I13+NOVEMBER!I13+DECEMBER!I13) -> 0
B17: TOTAL SAVINGS
B18: =SUM(JANUARY!L17+FEBRUARY!L17+MARCH!L17+APRIL!L17+MAY!L17+JUNE!L17+JULY!L17+AUGUST!L17+SEPTEMBER!L17+OCTOBER!L17+NOVEMBER!L17+DECEMBER!L17) -> 0 | H18: Total | J18: =SUM(J6:K17) -> 0
B20: PERCENTAGE OF SPENDING BY CATEGORY FOR THE YEAR | H20: AMOUNT SAVED BY ACCOUNT FOR THE YEAR
B21: ITEM | C21: AMOUNT | E21: % OF SPENDING
B22: Housing | C22: =SUM(JANUARY!M21+FEBRUARY!M21+MARCH!M21+APRIL!M21+MAY!M21+JUNE!M21+JULY!M21+AUGUST!M21+SEPTEMBER!M21+OCTOBER!M21+NOVEMBER!M21+DECEMBER!M21) -> 0 | E22: =SUM(C22/B$6) -> #DIV/0!
B23: Transportation | C23: =SUM(JANUARY!M22+FEBRUARY!M22+MARCH!M22+APRIL!M22+MAY!M22+JUNE!M22+JULY!M22+AUGUST!M22+SEPTEMBER!M22+OCTOBER!M22+NOVEMBER!M22+DECEMBER!M22) -> 0 | E23: =SUM(C23/B$6) -> #DIV/0!
B24: Food | C24: =SUM(JANUARY!M23+FEBRUARY!M23+MARCH!M23+APRIL!M23+MAY!M23+JUNE!M23+JULY!M23+AUGUST!M23+SEPTEMBER!M23+OCTOBER!M23+NOVEMBER!M23+DECEMBER!M23) -> 0 | E24: =SUM(C24/B$6) -> #DIV/0!
B25: Child Care | C25: =SUM(JANUARY!M24+FEBRUARY!M24+MARCH!M24+APRIL!M24+MAY!M24+JUNE!M24+JULY!M24+AUGUST!M24+SEPTEMBER!M24+OCTOBER!M24+NOVEMBER!M24+DECEMBER!M24) -> 0 | E25: =SUM(C25/B$6) -> #DIV/0!
B26: Personal Care | C26: =SUM(JANUARY!M25+FEBRUARY!M25+MARCH!M25+APRIL!M25+MAY!M25+JUNE!M25+JULY!M25+AUGUST!M25+SEPTEMBER!M25+OCTOBER!M25+NOVEMBER!M25+DECEMBER!M25) -> 0 | E26: =SUM(C26/B$6) -> #DIV/0!
B27: Entertainment | C27: =SUM(JANUARY!M26+FEBRUARY!M26+MARCH!M26+APRIL!M26+MAY!M26+JUNE!M26+JULY!M26+AUGUST!M26+SEPTEMBER!M26+OCTOBER!M26+NOVEMBER!M26+DECEMBER!M26) -> 0 | E27: =SUM(C27/B$6) -> #DIV/0!
B28: Loans & Lines of Credit | C28: =SUM(JANUARY!M27+FEBRUARY!M27+MARCH!M27+APRIL!M27+MAY!M27+JUNE!M27+JULY!M27+AUGUST!M27+SEPTEMBER!M27+OCTOBER!M27+NOVEMBER!M27+DECEMBER!M27) -> 0 | E28: =SUM(C28/B$6) -> #DIV/0!
B29: Pet Expenses | C29: =SUM(JANUARY!M28+FEBRUARY!M28+MARCH!M28+APRIL!M28+MAY!M28+JUNE!M28+JULY!M28+AUGUST!M28+SEPTEMBER!M28+OCTOBER!M28+NOVEMBER!M28+DECEMBER!M28) -> 0 | E29: =SUM(C29/B$6) -> #DIV/0!
B30: Gifts & Donations | C30: =SUM(JANUARY!M29+FEBRUARY!M29+MARCH!M29+APRIL!M29+MAY!M29+JUNE!M29+JULY!M29+AUGUST!M29+SEPTEMBER!M29+OCTOBER!M29+NOVEMBER!M29+DECEMBER!M29) -> 0 | E30: =SUM(C30/B$6) -> #DIV/0!
B31: Misc. | C31: =SUM(JANUARY!M30+FEBRUARY!M30+MARCH!M30+APRIL!M30+MAY!M30+JUNE!M30+JULY!M30+AUGUST!M30+SEPTEMBER!M30+OCTOBER!M30+NOVEMBER!M30+DECEMBER!M30) -> 0 | E31: =SUM(C31/B$6) -> #DIV/0!
B32: Total | C32: =SUM(C22:D31) -> 0 | E32: =SUM(C32/B6) -> #DIV/0!
B34: © 2022, Financial Footwork Inc.
B36: FINANCIAL FOOTWORK WEBSITE
B38: FINANCIAL FOOTWORK INSTAGRAM | H38: FINANCIAL FOOTWORK YOUTUBE

Sheet JANUARY
B2: JANUARY BUDGET | L2: BUDGET | R2: EXPENSE TRACKER | W2: CATEGORY TOTALS
B4: INCOME | G4: SAVINGS | L4: TOTAL INCOME | M4: PERCENTAGE OF INCOME SAVED & SPENT | R4: Date | S4: Amount | T4: Description | U4: Category | W4: Category Totals | X4: Amount
C5: Budget | D5: Actual | E5: Difference | H5: Budget | I5: Actual | J5: Difference | L5: =SUM(D14) -> 0 | W5: Housing | X5: =SUMIF(U5:U349, Z5,S5:S349) -> 0 | Z5: Housing
B6: Pay Check | C6: 0 | D6: 0 | E6: =SUM(C6-D6) -> 0 | G6: Emergency Fund | H6: 0 | I6: 0 | J6: =SUM(H6-I6) -> 0 | Z6: Transportation
B7: Pay Check | C7: 0 | D7: 0 | E7: =SUM(C7-D7) -> 0 | G7: Short-Term Savings | H7: 0 | I7: 0 | J7: =SUM(H7-I7) -> 0 | L7: TOTAL SPENDING | W7: Transportation | X7: =SUMIF(U5:U349,Z6,S5:S349) -> 0 | Z7: Food
B8: Tips | C8: 0 | D8: 0 | E8: =SUM(C8-D8) -> 0 | G8: Long-Term Savings | H8: 0 | I8: 0 | J8: =SUM(H8-I8) -> 0 | L8: =SUM(D31+I31+I44+D44+D56+I56+D65+I65+I73+D73) -> 0 | Z8: Child Care
B9: Other | C9: 0 | D9: 0 | E9: =SUM(C9-D9) -> 0 | G9: Stocks | H9: 0 | I9: 0 | J9: =SUM(H9-I9) -> 0 | W9: Food | X9: =SUMIF(U5:U349, Z7,S5:S349) -> 0 | Z9: Personal Care
E10: =SUM(C10-D10) -> 0 | G10: Retirement | H10: 0 | I10: 0 | J10: =SUM(H10-I10) -> 0 | L10: CASH LEFT OVER | Z10: Entertainment
E11: =SUM(C11-D11) -> 0 | G11: Goal Savings | H11: 0 | I11: 0 | J11: =SUM(H11-I11) -> 0 | L11: =SUM(L5-L8) -> 0 | W11: Child Care | X11: =SUMIF(U5:U349, Z8,S5:S349) -> 0 | Z11: Credit Cards
E12: =SUM(C12-D12) -> 0 | G12: Other | H12: 0 | I12: 0 | J12: =SUM(H12-I12) -> 0 | Z12: Pet Expenses
E13: =SUM(C13-D13) -> 0 | G13: Other | H13: 0 | I13: 0 | J13: =SUM(H13-I13) -> 0 | L13: TOTAL LOAN PAYMENTS | W13: Personal Care | X13: =SUMIF(U5:U349, Z9,S5:S349) -> 0 | Z13: Gifts & Donations
B14: Total | C14: =SUM(C6:C13) -> 0 | D14: =SUM(D6:D13) -> 0 | E14: =SUM(E6:E13) -> 0 | G14: Total | H14: =SUM(H6:H13) -> 0 | I14: =SUM(I6:I13) -> 0 | J14: =SUM(J6:J13) -> 0 | L14: =SUM(D65) -> 0 | Z14: Misc. Expenses
W15: Entertainment | X15: =SUMIF(U5:U349, Z10,S5:S349) -> 0
B16: EXPENSES | L16: TOTAL SAVINGS
L17: =SUM(I14) -> 0 | W17: Loans & Credit Cards | X17: =SUMIF(U5:U349, Z11,S5:S349) -> 0
B19: HOUSING | G19: TRANSPORTATION | L19: PERCENTAGE OF SPENDING BY CATEGORY | W19: Pet Expenses | X19: =SUMIF(U5:U349, Z12,S5:S349) -> 0
B20: What's it for | C20: Budget | D20: Spent | E20: Balance | G20: What's it for | H20: Budget | I20: Spent | J20: Balance | L20: ITEM | M20: AMOUNT | O20: % OF SPENDING | W20: Gifts & Donations | X20: =SUMIF(U5:U349, Z13,S5:S349) -> 0
B21: Rent/Mortgage | E21: =SUM(C21-D21) -> 0 | G21: Car Payment | J21: =SUM(H21-I21) -> 0 | L21: Housing | M21: =SUM(D31) -> 0 | O21: =SUM(M21/$L$5) -> #DIV/0!
B22: Electricity | E22: =SUM(C22-D22) -> 0 | G22: Insurance | J22: =SUM(H22-I22) -> 0 | L22: Transportation | M22: =I31 -> 0 | O22: =SUM(M22/L5) -> #DIV/0! | W22: Misc. Expenses | X22: =SUMIF(U5:U349, Z14,S5:S349) -> 0
B23: Water/Sewer | E23: =SUM(C23-D23) -> 0 | G23: Fuel | J23: =SUM(H23-I23) -> 0 | L23: Food | M23: =D44 -> 0 | O23: =SUM(M23/L5) -> #DIV/0!
B24: Gas | E24: =SUM(C24-D24) -> 0 | G24: Maintenance | J24: =SUM(H24-I24) -> 0 | L24: Child Care | M24: =I44 -> 0 | O24: =SUM(M24/L5) -> #DIV/0!
B25: Garbage | E25: =SUM(C25-D25) -> 0 | G25: Licensing Fees | J25: =SUM(H25-I25) -> 0 | L25: Personal Care | M25: =D56 -> 0 | O25: =SUM(M25/L5) -> #DIV/0!
B26: Cell Phone | E26: =SUM(C26-D26) -> 0 | G26: Uber/Lift | J26: =SUM(H26-I26) -> 0 | L26: Entertainment | M26: =I56 -> 0 | O26: =SUM(M26/L5) -> #DIV/0!
B27: Cable/Internet | E27: =SUM(C27-D27) -> 0 | J27: =SUM(H27-I27) -> 0 | L27: Loans & Lines of Credit | M27: =D65 -> 0 | O27: =SUM(M27/L5) -> #DIV/0!
B28: Insurance | E28: =SUM(C28-D28) -> 0 | J28: =SUM(H28-I28) -> 0 | L28: Pet Expenses | M28: =I65 -> 0 | O28: =SUM(M28/L5) -> #DIV/0!
E29: =SUM(C29-D29) -> 0 | J29: =SUM(H29-I29) -> 0 | L29: Gifts & Donations | M29: =SUM(D73) -> 0 | N29: =SUM(M29/L5) -> #DIV/0!
E30: =SUM(C30-D30) -> 0 | J30: =SUM(H30-I30) -> 0 | L30: Misc. | M30: =SUM(I73) -> 0 | O30: =SUM(M30/L5) -> #DIV/0!
B31: Total | C31: =SUM(C21:C30) -> 0 | D31: =SUM(D21:D30) -> 0 | E31: =SUM(E21:E30) -> 0 | G31: Total | H31: =SUM(H21:H30) -> 0 | I31: =SUM(I21:I30) -> 0 | J31: =SUM(J21:J30) -> 0 | L31: Total | M31: =SUM(M21:N30) -> #DIV/0! | O31: =SUM(M31/L5) -> #DIV/0!
B34: FOOD | G34: CHILD CARE | L34: SAVINGS SUMMARY
B35: What's it for | C35: Budget | D35: Spent | E35: Balance | G35: What's it for | H35: Budget | I35: Spent | J35: Balance | L35: ACCOUNT | P35: BALANCE
B36: Groceries | E36: =SUM(C36-D36) -> 0 | G36: Child Care | J36: =SUM(H36-I36) -> 0 | L36: =G6 -> Emergency Fund | O36: =I6 -> 0
B37: Dining Out | E37: =SUM(C37-D37) -> 0 | G37: Clothes/Shoes | J37: =SUM(H37-I37) -> 0 | L37: =G7 -> Short-Term Savings | O37: =I7 -> 0
B38: Meal Prep | E38: =SUM(C38-D38) -> 0 | G38: School Supplies | J38: =SUM(H38-I38) -> 0 | L38: =G8 -> Long-Term Savings | O38: =I8 -> 0
B39: Vitamins | E39: =SUM(C39-D39) -> 0 | G39: Sports/Activities | J39: =SUM(H39-I39) -> 0 | L39: =G9 -> Stocks | O39: =I9 -> 0
B40: Wine/Beer/etc. | E40: =SUM(C40-D40) -> 0 | G40: Birthdays | J40: =SUM(H40-I40) -> 0 | L40: =G10 -> Retirement | O40: =I10 -> 0
B41: Grubhub | E41: =SUM(C41-D41) -> 0 | G41: Child Support | J41: =SUM(H41-I41) -> 0 | L41: =G11 -> Goal Savings | O41: =I11 -> 0
E42: =SUM(C42-D42) -> 0 | J42: =SUM(H42-I42) -> 0 | L42: =G12 -> Other | O42: =I12 -> 0
E43: =SUM(C43-D43) -> 0 | J43: =SUM(H43-I43) -> 0 | L43: =G13 -> Other | O43: =I13 -> 0
B44: Total | C44: =SUM(C36:C43) -> 0 | D44: =SUM(D36:D43) -> 0 | E44: =SUM(E36:E43) -> 0 | G44: Total | H44: =SUM(H36:H43) -> 0 | I44: =SUM(I36:I43) -> 0 | J44: =SUM(J36:J43) -> 0 | L44: Total | O44: =SUM(P36:P43) -> 0
B46: PERSONAL CARE | G46: ENTERTAINMENT | L46: AMOUNT SAVED BY ACCOUNT
...

Sheet FEBRUARY
B2: FEBRUARY BUDGET | L2: BUDGET | R2: EXPENSE TRACKER | W2: CATEGORY TOTALS
B4: INCOME | G4: SAVINGS | L4: TOTAL INCOME | M4: PERCENTAGE OF INCOME SAVED & SPENT | R4: Date | S4: Amount | T4: Description | U4: Category | W4: Category Totals | X4: Amount
C5: Budget | D5: Actual | E5: Difference | H5: Budget | I5: Actual | J5: Difference | L5: =SUM(D14) -> 0 | W5: Housing | X5: =SUMIF(U5:U349, Z5,S5:S349) -> 0 | Z5: Housing
B6: Pay Check | C6: 0 | D6: 0 | E6: =SUM(C6-D6) -> 0 | G6: Emergency Fund | H6: 0 | I6: 0 | J6: =SUM(H6-I6) -> 0 | Z6: Transportation
B7: Pay Check | C7: 0 | D7: 0 | E7: =SUM(C7-D7) -> 0 | G7: Short-Term Savings | H7: 0 | I7: 0 | J7: =SUM(H7-I7) -> 0 | L7: TOTAL SPENDING | W7: Transportation | X7: =SUMIF(U5:U349,Z6,S5:S349) -> 0 | Z7: Food
B8: Tips | C8: 0 | D8: 0 | E8: =SUM(C8-D8) -> 0 | G8: Long-Term Savings | H8: 0 | I8: 0 | J8: =SUM(H8-I8) -> 0 | L8: =SUM(D31+I31+I44+D44+D56+I56+D65+I65+I73+D73) -> 0 | Z8: Child Care
B9: Other | C9: 0 | D9: 0 | E9: =SUM(C9-D9) -> 0 | G9: Stocks | H9: 0 | I9: 0 | J9: =SUM(H9-I9) -> 0 | W9: Food | X9: =SUMIF(U5:U349, Z7,S5:S349) -> 0 | Z9: Personal Care
E10: =SUM(C10-D10) -> 0 | G10: Retirement | H10: 0 | I10: 0 | J10: =SUM(H10-I10) -> 0 | L10: CASH LEFT OVER | Z10: Entertainment
E11: =SUM(C11-D11) -> 0 | G11: Goal Savings | J11: =SUM(H11-I11) -> 0 | L11: =SUM(L5-L8) -> 0 | W11: Child Care | X11: =SUMIF(U5:U349, Z8,S5:S349) -> 0 | Z11: Credit Cards
E12: =SUM(C12-D12) -> 0 | G12: Other | J12: =SUM(H12-I12) -> 0 | Z12: Pet Expenses
E13: =SUM(C13-D13) -> 0 | G13: Other | J13: =SUM(H13-I13) -> 0 | L13: TOTAL LOAN PAYMENTS | W13: Personal Care | X13: =SUMIF(U5:U349, Z9,S5:S349) -> 0 | Z13: Gifts & Donations
B14: Total | C14: =SUM(C6:C13) -> 0 | D14: =SUM(D6:D13) -> 0 | E14: =SUM(E6:E13) -> 0 | G14: Total | H14: =SUM(H6:H13) -> 0 | I14: =SUM(I6:I13) -> 0 | J14: =SUM(J6:J13) -> 0 | L14: =SUM(D65) -> 0 | Z14: Misc. Expenses
W15: Entertainment | X15: =SUMIF(U5:U349, Z10,S5:S349) -> 0
B16: EXPENSES | L16: TOTAL SAVINGS
L17: =SUM(I14) -> 0 | W17: Loans & Credit Cards | X17: =SUMIF(U5:U349, Z11,S5:S349) -> 0
B19: HOUSING | G19: TRANSPORTATION | L19: PERCENTAGE OF SPENDING BY CATEGORY | W19: Pet Expenses | X19: =SUMIF(U5:U349, Z12,S5:S349) -> 0
B20: What's it for | C20: Budget | D20: Spent | E20: Balance | G20: What's it for | H20: Budget | I20: Spent | J20: Balance | L20: ITEM | M20: AMOUNT | O20: % OF SPENDING | W20: Gifts & Donations | X20: =SUMIF(U5:U349, Z13,S5:S349) -> 0
B21: Rent/Mortgage | E21: =SUM(C21-D21) -> 0 | G21: Car Payment | J21: =SUM(H21-I21) -> 0 | L21: Housing | M21: =SUM(D31) -> 0 | O21: =SUM(M21/$L$5) -> #DIV/0!
B22: Electricity | E22: =SUM(C22-D22) -> 0 | G22: Insurance | J22: =SUM(H22-I22) -> 0 | L22: Transportation | M22: =I31 -> 0 | O22: =SUM(M22/L5) -> #DIV/0! | W22: Misc. Expenses | X22: =SUMIF(U5:U349, Z14,S5:S349) -> 0
B23: Water/Sewer | E23: =SUM(C23-D23) -> 0 | G23: Fuel | J23: =SUM(H23-I23) -> 0 | L23: Food | M23: =D44 -> 0 | O23: =SUM(M23/L5) -> #DIV/0!
B24: Gas | E24: =SUM(C24-D24) -> 0 | G24: Maintenance | J24: =SUM(H24-I24) -> 0 | L24: Child Care | M24: =I44 -> 0 | O24: =SUM(M24/L5) -> #DIV/0!
B25: Garbage | E25: =SUM(C25-D25) -> 0 | G25: Licensing Fees | J25: =SUM(H25-I25) -> 0 | L25: Personal Care | M25: =D56 -> 0 | O25: =SUM(M25/L5) -> #DIV/0!
B26: Cell Phone | E26: =SUM(C26-D26) -> 0 | G26: Uber/Lift | J26: =SUM(H26-I26) -> 0 | L26: Entertainment | M26: =I56 -> 0 | O26: =SUM(M26/L5) -> #DIV/0!
B27: Cable/Internet | E27: =SUM(C27-D27) -> 0 | J27: =SUM(H27-I27) -> 0 | L27: Loans & Lines of Credit | M27: =D65 -> 0 | O27: =SUM(M27/L5) -> #DIV/0!
B28: Insurance | E28: =SUM(C28-D28) -> 0 | J28: =SUM(H28-I28) -> 0 | L28: Pet Expenses | M28: =I65 -> 0 | O28: =SUM(M28/L5) -> #DIV/0!
E29: =SUM(C29-D29) -> 0 | J29: =SUM(H29-I29) -> 0 | L29: Gifts & Donations | M29: =SUM(D73) -> 0 | N29: =SUM(M29/L5) -> #DIV/0!
E30: =SUM(C30-D30) -> 0 | J30: =SUM(H30-I30) -> 0 | L30: Misc. | M30: =SUM(I73) -> 0 | O30: =SUM(M30/L5) -> #DIV/0!
B31: Total | C31: =SUM(C21:C30) -> 0 | D31: =SUM(D21:D30) -> 0 | E31: =SUM(E21:E30) -> 0 | G31: Total | H31: =SUM(H21:H30) -> 0 | I31: =SUM(I21:I30) -> 0 | J31: =SUM(J21:J30) -> 0 | L31: Total | M31: =SUM(M21:N30) -> #DIV/0! | O31: =SUM(M31/L5) -> #DIV/0!
B34: FOOD | G34: CHILD CARE | L34: SAVINGS SUMMARY
B35: What's it for | C35: Budget | D35: Spent | E35: Balance | G35: What's it for | H35: Budget | I35: Spent | J35: Balance | L35: ACCOUNT | P35: BALANCE
B36: Groceries | E36: =SUM(C36-D36) -> 0 | G36: Child Care | J36: =SUM(H36-I36) -> 0 | L36: =G6 -> Emergency Fund | O36: =I6 -> 0
B37: Dining Out | E37: =SUM(C37-D37) -> 0 | G37: Clothes/Shoes | J37: =SUM(H37-I37) -> 0 | L37: =G7 -> Short-Term Savings | O37: =I7 -> 0
B38: Meal Prep | E38: =SUM(C38-D38) -> 0 | G38: School Supplies | J38: =SUM(H38-I38) -> 0 | L38: =G8 -> Long-Term Savings | O38: =I8 -> 0
B39: Vitamins | E39: =SUM(C39-D39) -> 0 | G39: Sports/Activities | J39: =SUM(H39-I39) -> 0 | L39: =G9 -> Stocks | O39: =I9 -> 0
B40: Wine/Beer/etc. | E40: =SUM(C40-D40) -> 0 | G40: Birthdays | J40: =SUM(H40-I40) -> 0 | L40: =G10 -> Retirement | O40: =I10 -> 0
B41: Grubhub | E41: =SUM(C41-D41) -> 0 | G41: Child Support | J41: =SUM(H41-I41) -> 0 | L41: =G11 -> Goal Savings | O41: =I11 -> 0
E42: =SUM(C42-D42) -> 0 | J42: =SUM(H42-I42) -> 0 | L42: =G12 -> Other | O42: =I12 -> 0
E43: =SUM(C43-D43) -> 0 | J43: =SUM(H43-I43) -> 0 | L43: =G13 -> Other | O43: =I13 -> 0
B44: Total | C44: =SUM(C36:C43) -> 0 | D44: =SUM(D36:D43) -> 0 | E44: =SUM(E36:E43) -> 0 | G44: Total | H44: =SUM(H36:H43) -> 0 | I44: =SUM(I36:I43) -> 0 | J44: =SUM(J36:J43) -> 0 | L44: Total | O44: =SUM(P36:P43) -> 0
B46: PERSONAL CARE | G46: ENTERTAINMENT | L46: AMOUNT SAVED BY ACCOUNT
...

Sheet MARCH
B2: MARCH BUDGET | L2: BUDGET | R2: EXPENSE TRACKER | W2: CATEGORY TOTALS
B4: INCOME | G4: SAVINGS | L4: TOTAL INCOME | M4: PERCENTAGE OF INCOME SAVED & SPENT | R4: Date | S4: Amount | T4: Description | U4: Category | W4: Category Totals | X4: Amount
C5: Budget | D5: Actual | E5: Difference | H5: Budget | I5: Actual | J5: Difference | L5: =SUM(D14) -> 0 | W5: Housing | X5: =SUMIF(U5:U349, Z5,S5:S349) -> 0 | Z5: Housing
B6: Pay Check | C6: 0 | D6: 0 | E6: =SUM(C6-D6) -> 0 | G6: Emergency Fund | H6: 0 | J6: =SUM(H6-I6) -> 0 | Z6: Transportation
B7: Pay Check | C7: 0 | D7: 0 | E7: =SUM(C7-D7) -> 0 | G7: Short-Term Savings | H7: 0 | J7: =SUM(H7-I7) -> 0 | L7: TOTAL SPENDING | W7: Transportation | X7: =SUMIF(U5:U349,Z6,S5:S349) -> 0 | Z7: Food
B8: Tips | C8: 0 | D8: 0 | E8: =SUM(C8-D8) -> 0 | G8: Long-Term Savings | H8: 0 | J8: =SUM(H8-I8) -> 0 | L8: =SUM(D31+I31+I44+D44+D56+I56+D65+I65+I73+D73) -> 0 | Z8: Child Care
B9: Other | C9: 0 | D9: 0 | E9: =SUM(C9-D9) -> 0 | G9: Stocks | H9: 0 | J9: 0 | W9: Food | X9: =SUMIF(U5:U349, Z7,S5:S349) -> 0 | Z9: Personal Care
E10: =SUM(C10-D10) -> 0 | G10: Retirement | H10: 0 | J10: =SUM(H10-I10) -> 0 | L10: CASH LEFT OVER | Z10: Entertainment
E11: =SUM(C11-D11) -> 0 | G11: Goal Savings | J11: =SUM(H11-I11) -> 0 | L11: =SUM(L5-L8) -> 0 | W11: Child Care | X11: =SUMIF(U5:U349, Z8,S5:S349) -> 0 | Z11: Credit Cards
E12: =SUM(C12-D12) -> 0 | G12: Other | J12: =SUM(H12-I12) -> 0 | Z12: Pet Expenses
E13: =SUM(C13-D13) -> 0 | G13: Other | J13: =SUM(H13-I13) -> 0 | L13: TOTAL LOAN PAYMENTS | W13: Personal Care | X13: =SUMIF(U5:U349, Z9,S5:S349) -> 0 | Z13: Gifts & Donations
B14: Total | C14: =SUM(C6:C13) -> 0 | D14: =SUM(D6:D13) -> 0 | E14: =SUM(E6:E13) -> 0 | G14: Total | H14: =SUM(H6:H13) -> 0 | I14: =SUM(I6:I13) -> 0 | J14: =SUM(J6:J13) -> 0 | L14: =SUM(D65) -> 0 | Z14: Misc. Expenses
W15: Entertainment | X15: =SUMIF(U5:U349, Z10,S5:S349) -> 0
B16: EXPENSES | L16: TOTAL SAVINGS
L17: =SUM(I14) -> 0 | W17: Loans & Credit Cards | X17: =SUMIF(U5:U349, Z11,S5:S349) -> 0
B19: HOUSING | G19: TRANSPORTATION | L19: PERCENTAGE OF SPENDING BY CATEGORY | W19: Pet Expenses | X19: =SUMIF(U5:U349, Z12,S5:S349) -> 0
B20: What's it for | C20: Budget | D20: Spent | E20: Balance | G20: What's it for | H20: Budget | I20: Spent | J20: Balance | L20: ITEM | M20: AMOUNT | O20: % OF SPENDING | W20: Gifts & Donations | X20: =SUMIF(U5:U349, Z13,S5:S349) -> 0
B21: Rent/Mortgage | E21: =SUM(C21-D21) -> 0 | G21: Car Payment | J21: =SUM(H21-I21) -> 0 | L21: Housing | M21: =SUM(D31) -> 0 | O21: =SUM(M21/$L$5) -> #DIV/0!
B22: Electricity | E22: =SUM(C22-D22) -> 0 | G22: Insurance | J22: =SUM(H22-I22) -> 0 | L22: Transportation | M22: =I31 -> 0 | O22: =SUM(M22/L5) -> #DIV/0! | W22: Misc. Expenses | X22: =SUMIF(U5:U349, Z14,S5:S349) -> 0
B23: Water/Sewer | E23: =SUM(C23-D23) -> 0 | G23: Fuel | J23: =SUM(H23-I23) -> 0 | L23: Food | M23: =D44 -> 0 | O23: =SUM(M23/L5) -> #DIV/0!
B24: Gas | E24: =SUM(C24-D24) -> 0 | G24: Maintenance | J24: =SUM(H24-I24) -> 0 | L24: Child Care | M24: =I44 -> 0 | O24: =SUM(M24/L5) -> #DIV/0!
B25: Garbage | E25: =SUM(C25-D25) -> 0 | G25: Licensing Fees | J25: =SUM(H25-I25) -> 0 | L25: Personal Care | M25: =D56 -> 0 | O25: =SUM(M25/L5) -> #DIV/0!
B26: Cell Phone | E26: =SUM(C26-D26) -> 0 | G26: Uber/Lift | J26: =SUM(H26-I26) -> 0 | L26: Entertainment | M26: =I56 -> 0 | O26: =SUM(M26/L5) -> #DIV/0!
B27: Cable/Internet | E27: =SUM(C27-D27) -> 0 | G27: Parking | J27: =SUM(H27-I27) -> 0 | L27: Loans & Lines of Credit | M27: =D65 -> 0 | O27: =SUM(M27/L5) -> #DIV/0!
B28: Insurance | E28: =SUM(C28-D28) -> 0 | J28: =SUM(H28-I28) -> 0 | L28: Pet Expenses | M28: =I65 -> 0 | O28: =SUM(M28/L5) -> #DIV/0!
E29: =SUM(C29-D29) -> 0 | J29: =SUM(H29-I29) -> 0 | L29: Gifts & Donations | M29: =SUM(D73) -> 0 | N29: =SUM(M29/L5) -> #DIV/0!
E30: =SUM(C30-D30) -> 0 | J30: =SUM(H30-I30) -> 0 | L30: Misc. | M30: =SUM(I73) -> 0 | O30: =SUM(M30/L5) -> #DIV/0!
B31: Total | C31: =SUM(C21:C30) -> 0 | D31: =SUM(D21:D30) -> 0 | E31: =SUM(E21:E30) -> 0 | G31: Total | H31: =SUM(H21:H30) -> 0 | I31: =SUM(I21:I30) -> 0 | J31: =SUM(J21:J30) -> 0 | L31: Total | M31: =SUM(M21:N30) -> #DIV/0! | O31: =SUM(M31/L5) -> #DIV/0!
B34: FOOD | G34: CHILD CARE | L34: SAVINGS SUMMARY
B35: What's it for | C35: Budget | D35: Spent | E35: Balance | G35: What's it for | H35: Budget | I35: Spent | J35: Balance | L35: ACCOUNT | P35: BALANCE
B36: Groceries | E36: =SUM(C36-D36) -> 0 | G36: Child Care | J36: =SUM(H36-I36) -> 0 | L36: =G6 -> Emergency Fund | O36: =I6 -> 0
B37: Dining Out | E37: =SUM(C37-D37) -> 0 | G37: Clothes/Shoes | J37: =SUM(H37-I37) -> 0 | L37: =G7 -> Short-Term Savings | O37: =I7 -> 0
B38: Meal Prep | E38: =SUM(C38-D38) -> 0 | G38: School Supplies | J38: =SUM(H38-I38) -> 0 | L38: =G8 -> Long-Term Savings | O38: =I8 -> 0
B39: Vitamins | E39: =SUM(C39-D39) -> 0 | G39: Sports/Activities | J39: =SUM(H39-I39) -> 0 | L39: =G9 -> Stocks | O39: =I9 -> 0
B40: Wine/Beer/etc. | E40: =SUM(C40-D40) -> 0 | G40: Birthdays | J40: =SUM(H40-I40) -> 0 | L40: =G10 -> Retirement | O40: =I10 -> 0
B41: Grubhub | E41: =SUM(C41-D41) -> 0 | G41: Child Support | J41: =SUM(H41-I41) -> 0 | L41: =G11 -> Goal Savings | O41: =I11 -> 0
E42: =SUM(C42-D42) -> 0 | J42: =SUM(H42-I42) -> 0 | L42: =G12 -> Other | O42: =I12 -> 0
E43: =SUM(C43-D43) -> 0 | J43: =SUM(H43-I43) -> 0 | L43: =G13 -> Other | O43: =I13 -> 0
B44: Total | C44: =SUM(C36:C43) -> 0 | D44: =SUM(D36:D43) -> 0 | E44: =SUM(E36:E43) -> 0 | G44: Total | H44: =SUM(H36:H43) -> 0 | I44: =SUM(I36:I43) -> 0 | J44: =SUM(J36:J43) -> 0 | L44: Total | O44: =SUM(P36:P43) -> 0
B46: PERSONAL CARE | G46: ENTERTAINMENT | L46: AMOUNT SAVED BY ACCOUNT
...

Sheet APRIL
B2: APRIL BUDGET | L2: BUDGET | R2: EXPENSE TRACKER | W2: CATEGORY TOTALS
B4: INCOME | G4: SAVINGS | L4: TOTAL INCOME | M4: PERCENTAGE OF INCOME SAVED & SPENT | R4: Date | S4: Amount | T4: Description | U4: Category | W4: Category Totals | X4: Amount
C5: Budget | D5: Actual | E5: Difference | H5: Budget | I5: Actual | J5: Difference | L5: =SUM(D14) -> 0 | W5: Housing | X5: =SUMIF(U5:U349, Z5,S5:S349) -> 0 | Z5: Housing
B6: Pay Check | C6: 0 | D6: 0 | E6: =SUM(C6-D6) -> 0 | G6: Emergency Fund | H6: 0 | I6: 0 | J6: =SUM(H6-I6) -> 0 | Z6: Transportation
B7: Pay Check | C7: 0 | D7: 0 | E7: =SUM(C7-D7) -> 0 | G7: Short-Term Savings | H7: 0 | I7: 0 | J7: =SUM(H7-I7) -> 0 | L7: TOTAL SPENDING | W7: Transportation | X7: =SUMIF(U5:U349,Z6,S5:S349) -> 0 | Z7: Food
B8: Tips | C8: 0 | D8: 0 | E8: =SUM(C8-D8) -> 0 | G8: Long-Term Savings | H8: 0 | I8: 0 | J8: =SUM(H8-I8) -> 0 | L8: =SUM(D31+I31+I44+D44+D56+I56+D65+I65+I73+D73) -> 0 | Z8: Child Care
B9: Other | C9: 0 | D9: 0 | E9: =SUM(C9-D9) -> 0 | G9: Stocks | H9: 0 | I9: 0 | J9: =SUM(H9-I9) -> 0 | W9: Food | X9: =SUMIF(U5:U349, Z7,S5:S349) -> 0 | Z9: Personal Care
E10: =SUM(C10-D10) -> 0 | G10: Retirement | J10: =SUM(H10-I10) -> 0 | L10: CASH LEFT OVER | Z10: Entertainment
E11: =SUM(C11-D11) -> 0 | G11: Goal Savings | J11: =SUM(H11-I11) -> 0 | L11: =SUM(L5-L8) -> 0 | W11: Child Care | X11: =SUMIF(U5:U349, Z8,S5:S349) -> 0 | Z11: Credit Cards
E12: =SUM(C12-D12) -> 0 | G12: Other | J12: =SUM(H12-I12) -> 0 | Z12: Pet Expenses
E13: =SUM(C13-D13) -> 0 | G13: Other | J13: =SUM(H13-I13) -> 0 | L13: TOTAL LOAN PAYMENTS | W13: Personal Care | X13: =SUMIF(U5:U349, Z9,S5:S349) -> 0 | Z13: Gifts & Donations
B14: Total | C14: =SUM(C6:C13) -> 0 | D14: =SUM(D6:D13) -> 0 | E14: =SUM(E6:E13) -> 0 | G14: Total | H14: =SUM(H6:H13) -> 0 | I14: =SUM(I6:I13) -> 0 | J14: =SUM(J6:J13) -> 0 | L14: =SUM(D65) -> 0 | Z14: Misc. Expenses
W15: Entertainment | X15: =SUMIF(U5:U349, Z10,S5:S349) -> 0
B16: EXPENSES | L16: TOTAL SAVINGS
L17: =SUM(I14) -> 0 | W17: Loans & Credit Cards | X17: =SUMIF(U5:U349, Z11,S5:S349) -> 0
B19: HOUSING | G19: TRANSPORTATION | L19: PERCENTAGE OF SPENDING BY CATEGORY | W19: Pet Expenses | X19: =SUMIF(U5:U349, Z12,S5:S349) -> 0
B20: What's it for | C20: Budget | D20: Spent | E20: Balance | G20: What's it for | H20: Budget | I20: Spent | J20: Balance | L20: ITEM | M20: AMOUNT | O20: % OF SPENDING | W20: Gifts & Donations | X20: =SUMIF(U5:U349, Z13,S5:S349) -> 0
B21: Rent/Mortgage | E21: =SUM(C21-D21) -> 0 | G21: Car Payment | J21: =SUM(H21-I21) -> 0 | L21: Housing | M21: =SUM(D31) -> 0 | O21: =SUM(M21/$L$5) -> #DIV/0!
B22: Electricity | E22: =SUM(C22-D22) -> 0 | G22: Insurance | J22: =SUM(H22-I22) -> 0 | L22: Transportation | M22: =I31 -> 0 | O22: =SUM(M22/L5) -> #DIV/0! | W22: Misc. Expenses | X22: =SUMIF(U5:U349, Z14,S5:S349) -> 0
B23: Water/Sewer | E23: =SUM(C23-D23) -> 0 | G23: Fuel | J23: =SUM(H23-I23) -> 0 | L23: Food | M23: =D44 -> 0 | O23: =SUM(M23/L5) -> #DIV/0!
B24: Gas | E24: =SUM(C24-D24) -> 0 | G24: Maintenance | J24: =SUM(H24-I24) -> 0 | L24: Child Care | M24: =I44 -> 0 | O24: =SUM(M24/L5) -> #DIV/0!
B25: Garbage | E25: =SUM(C25-D25) -> 0 | G25: Licensing Fees | J25: =SUM(H25-I25) -> 0 | L25: Personal Care | M25: =D56 -> 0 | O25: =SUM(M25/L5) -> #DIV/0!
B26: Cell Phone | E26: =SUM(C26-D26) -> 0 | G26: Uber/Lift | J26: =SUM(H26-I26) -> 0 | L26: Entertainment | M26: =I56 -> 0 | O26: =SUM(M26/L5) -> #DIV/0!
B27: Cable/Internet | E27: =SUM(C27-D27) -> 0 | J27: =SUM(H27-I27) -> 0 | L27: Loans & Lines of Credit | M27: =D65 -> 0 | O27: =SUM(M27/L5) -> #DIV/0!
B28: Insurance | E28: =SUM(C28-D28) -> 0 | J28: =SUM(H28-I28) -> 0 | L28: Pet Expenses | M28: =I65 -> 0 | O28: =SUM(M28/L5) -> #DIV/0!
E29: =SUM(C29-D29) -> 0 | J29: =SUM(H29-I29) -> 0 | L29: Gifts & Donations | M29: =SUM(D73) -> 0 | N29: =SUM(M29/L5) -> #DIV/0!
E30: =SUM(C30-D30) -> 0 | J30: =SUM(H30-I30) -> 0 | L30: Misc. | M30: =SUM(I73) -> 0 | O30: =SUM(M30/L5) -> #DIV/0!
B31: Total | C31: =SUM(C21:C30) -> 0 | D31: =SUM(D21:D30) -> 0 | E31: =SUM(E21:E30) -> 0 | G31: Total | H31: =SUM(H21:H30) -> 0 | I31: =SUM(I21:I30) -> 0 | J31: =SUM(J21:J30) -> 0 | L31: Total | M31: =SUM(M21:N30) -> #DIV/0! | O31: =SUM(M31/L5) -> #DIV/0!
B34: FOOD | G34: CHILD CARE | L34: SAVINGS SUMMARY
B35: What's it for | C35: Budget | D35: Spent | E35: Balance | G35: What's it for | H35: Budget | I35: Spent | J35: Balance | L35: ACCOUNT | P35: BALANCE
B36: Groceries | E36: =SUM(C36-D36) -> 0 | G36: Child Care | J36: =SUM(H36-I36) -> 0 | L36: =G6 -> Emergency Fund | O36: =I6 -> 0
B37: Dining Out | E37: =SUM(C37-D37) -> 0 | G37: Clothes/Shoes | J37: =SUM(H37-I37) -> 0 | L37: =G7 -> Short-Term Savings | O37: =I7 -> 0
B38: Meal Prep | E38: =SUM(C38-D38) -> 0 | G38: School Supplies | J38: =SUM(H38-I38) -> 0 | L38: =G8 -> Long-Term Savings | O38: =I8 -> 0
B39: Vitamins | E39: =SUM(C39-D39) -> 0 | G39: Sports/Activities | J39: =SUM(H39-I39) -> 0 | L39: =G9 -> Stocks | O39: =I9 -> 0
B40: Wine/Beer/etc. | E40: =SUM(C40-D40) -> 0 | G40: Birthdays | J40: =SUM(H40-I40) -> 0 | L40: =G10 -> Retirement | O40: =I10 -> 0
B41: Grubhub | E41: =SUM(C41-D41) -> 0 | G41: Child Support | J41: =SUM(H41-I41) -> 0 | L41: =G11 -> Goal Savings | O41: =I11 -> 0
E42: =SUM(C42-D42) -> 0 | J42: =SUM(H42-I42) -> 0 | L42: =G12 -> Other | O42: =I12 -> 0
E43: =SUM(C43-D43) -> 0 | J43: =SUM(H43-I43) -> 0 | L43: =G13 -> Other | P43: =I13 -> 0
B44: Total | C44: =SUM(C36:C43) -> 0 | D44: =SUM(D36:D43) -> 0 | E44: =SUM(E36:E43) -> 0 | G44: Total | H44: =SUM(H36:H43) -> 0 | I44: =SUM(I36:I43) -> 0 | J44: =SUM(J36:J43) -> 0 | L44: Total | O44: =SUM(P36:P43) -> 0
B46: PERSONAL CARE | G46: ENTERTAINMENT | L46: AMOUNT SAVED BY ACCOUNT
...

Sheet MAY
B2: MAY BUDGET | L2: BUDGET | R2: EXPENSE TRACKER | W2: CATEGORY TOTALS
B4: INCOME | G4: SAVINGS | L4: TOTAL INCOME | M4: PERCENTAGE OF INCOME SAVED & SPENT | R4: Date | S4: Amount | T4: Description | U4: Category | W4: Category Totals | X4: Amount
C5: Budget | D5: Actual | E5: Difference | H5: Budget | I5: Actual | J5: Difference | L5: =SUM(D14) -> 0 | W5: Housing | X5: =SUMIF(U5:U349, Z5,S5:S349) -> 0 | Z5: Housing
B6: Pay Check | C6: 0 | D6: 0 | E6: =SUM(C6-D6) -> 0 | G6: Emergency Fund | H6: 0 | I6: 0 | J6: =SUM(H6-I6) -> 0 | Z6: Transportation
B7: Pay Check | C7: 0 | D7: 0 | E7: =SUM(C7-D7) -> 0 | G7: Short-Term Savings | H7: 0 | I7: 0 | J7: =SUM(H7-I7) -> 0 | L7: TOTAL SPENDING | W7: Transportation | X7: =SUMIF(U5:U349,Z6,S5:S349) -> 0 | Z7: Food
B8: Tips | C8: 0 | D8: 0 | E8: =SUM(C8-D8) -> 0 | G8: Long-Term Savings | H8: 0 | I8: 0 | J8: =SUM(H8-I8) -> 0 | L8: =SUM(D31+I31+I44+D44+D56+I56+D65+I65+I73+D73) -> 0 | Z8: Child Care
B9: Other | C9: 0 | D9: 0 | E9: =SUM(C9-D9) -> 0 | G9: Stocks | H9: 0 | I9: 0 | J9: =SUM(H9-I9) -> 0 | W9: Food | X9: =SUMIF(U5:U349, Z7,S5:S349) -> 0 | Z9: Personal Care
E10: =SUM(C10-D10) -> 0 | G10: Retirement | J10: =SUM(H10-I10) -> 0 | L10: CASH LEFT OVER | Z10: Entertainment
E11: =SUM(C11-D11) -> 0 | G11: Goal Savings | J11: =SUM(H11-I11) -> 0 | L11: =SUM(L5-L8) -> 0 | W11: Child Care | X11: =SUMIF(U5:U349, Z8,S5:S349) -> 0 | Z11: Credit Cards
E12: =SUM(C12-D12) -> 0 | G12: Other | J12: =SUM(H12-I12) -> 0 | Z12: Pet Expenses
E13: =SUM(C13-D13) -> 0 | G13: Other | J13: =SUM(H13-I13) -> 0 | L13: TOTAL LOAN PAYMENTS | W13: Personal Care | X13: =SUMIF(U5:U349, Z9,S5:S349) -> 0 | Z13: Gifts & Donations
B14: Total | C14: =SUM(C6:C13) -> 0 | D14: =SUM(D6:D13) -> 0 | E14: =SUM(E6:E13) -> 0 | G14: Total | H14: =SUM(H6:H13) -> 0 | I14: =SUM(I6:I13) -> 0 | J14: =SUM(J6:J13) -> 0 | L14: =SUM(D65) -> 0 | Z14: Misc. Expenses
W15: Entertainment | X15: =SUMIF(U5:U349, Z10,S5:S349) -> 0
B16: EXPENSES | L16: TOTAL SAVINGS
L17: =SUM(I14) -> 0 | W17: Loans & Credit Cards | X17: =SUMIF(U5:U349, Z11,S5:S349) -> 0
B19: HOUSING | G19: TRANSPORTATION | L19: PERCENTAGE OF SPENDING BY CATEGORY | W19: Pet Expenses | X19: =SUMIF(U5:U349, Z12,S5:S349) -> 0
B20: What's it for | C20: Budget | D20: Spent | E20: Balance | G20: What's it for | H20: Budget | I20: Spent | J20: Balance | L20: ITEM | M20: AMOUNT | O20: % OF SPENDING | W20: Gifts & Donations | X20: =SUMIF(U5:U349, Z13,S5:S349) -> 0
B21: Rent/Mortgage | E21: =SUM(C21-D21) -> 0 | G21: Car Payment | J21: =SUM(H21-I21) -> 0 | L21: Housing | M21: =SUM(D31) -> 0 | O21: =SUM(M21/$L$5) -> #DIV/0!
B22: Electricity | E22: =SUM(C22-D22) -> 0 | G22: Insurance | J22: =SUM(H22-I22) -> 0 | L22: Transportation | M22: =I31 -> 0 | O22: =SUM(M22/L5) -> #DIV/0! | W22: Misc. Expenses | X22: =SUMIF(U5:U349, Z14,S5:S349) -> 0
B23: Water/Sewer | E23: =SUM(C23-D23) -> 0 | G23: Fuel | J23: =SUM(H23-I23) -> 0 | L23: Food | M23: =D44 -> 0 | O23: =SUM(M23/L5) -> #DIV/0!
B24: Gas | E24: =SUM(C24-D24) -> 0 | G24: Maintenance | J24: =SUM(H24-I24) -> 0 | L24: Child Care | M24: =I44 -> 0 | O24: =SUM(M24/L5) -> #DIV/0!
B25: Garbage | E25: =SUM(C25-D25) -> 0 | G25: Licensing Fees | J25: =SUM(H25-I25) -> 0 | L25: Personal Care | M25: =D56 -> 0 | O25: =SUM(M25/L5) -> #DIV/0!
B26: Cell Phone | E26: =SUM(C26-D26) -> 0 | G26: Uber/Lift | J26: =SUM(H26-I26) -> 0 | L26: Entertainment | M26: =I56 -> 0 | O26: =SUM(M26/L5) -> #DIV/0!
B27: Cable/Internet | E27: =SUM(C27-D27) -> 0 | J27: =SUM(H27-I27) -> 0 | L27: Loans & Lines of Credit | M27: =D65 -> 0 | O27: =SUM(M27/L5) -> #DIV/0!
B28: Insurance | E28: =SUM(C28-D28) -> 0 | J28: =SUM(H28-I28) -> 0 | L28: Pet Expenses | M28: =I65 -> 0 | O28: =SUM(M28/L5) -> #DIV/0!
E29: =SUM(C29-D29) -> 0 | J29: =SUM(H29-I29) -> 0 | L29: Gifts & Donations | M29: =SUM(D73) -> 0 | N29: =SUM(M29/L5) -> #DIV/0!
E30: =SUM(C30-D30) -> 0 | J30: =SUM(H30-I30) -> 0 | L30: Misc. | M30: =SUM(I73) -> 0 | O30: =SUM(M30/L5) -> #DIV/0!
B31: Total | C31: =SUM(C21:C30) -> 0 | D31: =SUM(D21:D30) -> 0 | E31: =SUM(E21:E30) -> 0 | G31: Total | H31: =SUM(H21:H30) -> 0 | I31: =SUM(I21:I30) -> 0 | J31: =SUM(J21:J30) -> 0 | L31: Total | M31: =SUM(M21:N30) -> #DIV/0! | O31: =SUM(M31/L5) -> #DIV/0!
B34: FOOD | G34: CHILD CARE | L34: SAVINGS SUMMARY
B35: What's it for | C35: Budget | D35: Spent | E35: Balance | G35: What's it for | H35: Budget | I35: Spent | J35: Balance | L35: ACCOUNT | P35: BALANCE
B36: Groceries | E36: =SUM(C36-D36) -> 0 | G36: Child Care | J36: =SUM(H36-I36) -> 0 | L36: =G6 -> Emergency Fund | O36: =I6 -> 0
B37: Dining Out | E37: =SUM(C37-D37) -> 0 | G37: Clothes/Shoes | J37: =SUM(H37-I37) -> 0 | L37: =G7 -> Short-Term Savings | O37: =I7 -> 0
B38: Meal Prep | E38: =SUM(C38-D38) -> 0 | G38: School Supplies | J38: =SUM(H38-I38) -> 0 | L38: =G8 -> Long-Term Savings | O38: =I8 -> 0
B39: Vitamins | E39: =SUM(C39-D39) -> 0 | G39: Sports/Activities | J39: =SUM(H39-I39) -> 0 | L39: =G9 -> Stocks | O39: =I9 -> 0
B40: Wine/Beer/etc. | E40: =SUM(C40-D40) -> 0 | G40: Birthdays | J40: =SUM(H40-I40) -> 0 | L40: =G10 -> Retirement | O40: =I10 -> 0
B41: Grubhub | E41: =SUM(C41-D41) -> 0 | G41: Child Support | J41: =SUM(H41-I41) -> 0 | L41: =G11 -> Goal Savings | O41: =I11 -> 0
E42: =SUM(C42-D42) -> 0 | J42: =SUM(H42-I42) -> 0 | L42: =G12 -> Other | O42: =I12 -> 0
E43: =SUM(C43-D43) -> 0 | J43: =SUM(H43-I43) -> 0 | L43: =G13 -> Other | O43: =I13 -> 0
B44: Total | C44: =SUM(C36:C43) -> 0 | D44: =SUM(D36:D43) -> 0 | E44: =SUM(E36:E43) -> 0 | G44: Total | H44: =SUM(H36:H43) -> 0 | I44: =SUM(I36:I43) -> 0 | J44: =SUM(J36:J43) -> 0 | L44: Total | O44: =SUM(P36:P43) -> 0
B46: PERSONAL CARE | G46: ENTERTAINMENT | L46: AMOUNT SAVED BY ACCOUNT
...

Sheet JUNE
B2: JUNE BUDGET | L2: BUDGET | R2: EXPENSE TRACKER | W2: CATEGORY TOTALS
B4: INCOME | G4: SAVINGS | L4: TOTAL INCOME | M4: PERCENTAGE OF INCOME SAVED & SPENT | R4: Date | S4: Amount | T4: Description | U4: Category | W4: Category Totals | X4: Amount
C5: Budget | D5: Actual | E5: Difference | H5: Budget | I5: Actual | J5: Difference | L5: =SUM(D14) -> 0 | W5: Housing | X5: =SUMIF(U5:U349, Z5,S5:S349) -> 0 | Z5: Housing
B6: Pay Check | C6: 0 | D6: 0 | E6: =SUM(C6-D6) -> 0 | G6: Emergency Fund | H6: 0 | I6: 0 | J6: =SUM(H6-I6) -> 0 | Z6: Transportation
B7: Pay Check | C7: 0 | D7: 0 | E7: =SUM(C7-D7) -> 0 | G7: Short-Term Savings | H7: 0 | I7: 0 | J7: =SUM(H7-I7) -> 0 | L7: TOTAL SPENDING | W7: Transportation | X7: =SUMIF(U5:U349,Z6,S5:S349) -> 0 | Z7: Food
B8: Tips | C8: 0 | D8: 0 | E8: =SUM(C8-D8) -> 0 | G8: Long-Term Savings | H8: 0 | I8: 0 | J8: =SUM(H8-I8) -> 0 | L8: =SUM(D31+I31+I44+D44+D56+I56+D65+I65+I73+D73) -> 0 | Z8: Child Care
B9: Other | C9: 0 | D9: 0 | E9: =SUM(C9-D9) -> 0 | G9: Stocks | H9: 0 | I9: 0 | J9: =SUM(H9-I9) -> 0 | W9: Food | X9: =SUMIF(U5:U349, Z7,S5:S349) -> 0 | Z9: Personal Care
E10: =SUM(C10-D10) -> 0 | G10: Retirement | J10: =SUM(H10-I10) -> 0 | L10: CASH LEFT OVER | Z10: Entertainment
E11: =SUM(C11-D11) -> 0 | G11: Goal Savings | J11: =SUM(H11-I11) -> 0 | L11: =SUM(L5-L8) -> 0 | W11: Child Care | X11: =SUMIF(U5:U349, Z8,S5:S349) -> 0 | Z11: Credit Cards
E12: =SUM(C12-D12) -> 0 | G12: Other | J12: =SUM(H12-I12) -> 0 | Z12: Pet Expenses
E13: =SUM(C13-D13) -> 0 | G13: Other | J13: =SUM(H13-I13) -> 0 | L13: TOTAL LOAN PAYMENTS | W13: Personal Care | X13: =SUMIF(U5:U349, Z9,S5:S349) -> 0 | Z13: Gifts & Donations
B14: Total | C14: =SUM(C6:C13) -> 0 | D14: =SUM(D6:D13) -> 0 | E14: =SUM(E6:E13) -> 0 | G14: Total | H14: =SUM(H6:H13) -> 0 | I14: =SUM(I6:I13) -> 0 | J14: =SUM(J6:J13) -> 0 | L14: =SUM(D65) -> 0 | Z14: Misc. Expenses
W15: Entertainment | X15: =SUMIF(U5:U349, Z10,S5:S349) -> 0
B16: EXPENSES | L16: TOTAL SAVINGS
L17: =SUM(I14) -> 0 | W17: Loans & Credit Cards | X17: =SUMIF(U5:U349, Z11,S5:S349) -> 0
B19: HOUSING | G19: TRANSPORTATION | L19: PERCENTAGE OF SPENDING BY CATEGORY | W19: Pet Expenses | X19: =SUMIF(U5:U349, Z12,S5:S349) -> 0
B20: What's it for | C20: Budget | D20: Spent | E20: Balance | G20: What's it for | H20: Budget | I20: Spent | J20: Balance | L20: ITEM | M20: AMOUNT | O20: % OF SPENDING | W20: Gifts & Donations | X20: =SUMIF(U5:U349, Z13,S5:S349) -> 0
B21: Rent/Mortgage | E21: =SUM(C21-D21) -> 0 | G21: Car Payment | J21: =SUM(H21-I21) -> 0 | L21: Housing | M21: =SUM(D31) -> 0 | O21: =SUM(M21/$L$5) -> #DIV/0!
B22: Electricity | E22: =SUM(C22-D22) -> 0 | G22: Insurance | J22: =SUM(H22-I22) -> 0 | L22: Transportation | M22: =I31 -> 0 | O22: =SUM(M22/L5) -> #DIV/0! | W22: Misc. Expenses | X22: =SUMIF(U5:U349, Z14,S5:S349) -> 0
B23: Water/Sewer | E23: =SUM(C23-D23) -> 0 | G23: Fuel | J23: =SUM(H23-I23) -> 0 | L23: Food | M23: =D44 -> 0 | O23: =SUM(M23/L5) -> #DIV/0!
B24: Gas | E24: =SUM(C24-D24) -> 0 | G24: Maintenance | J24: =SUM(H24-I24) -> 0 | L24: Child Care | M24: =I44 -> 0 | O24: =SUM(M24/L5) -> #DIV/0!
B25: Garbage | E25: =SUM(C25-D25) -> 0 | G25: Licensing Fees | J25: =SUM(H25-I25) -> 0 | L25: Personal Care | M25: =D56 -> 0 | O25: =SUM(M25/L5) -> #DIV/0!
B26: Cell Phone | E26: =SUM(C26-D26) -> 0 | G26: Uber/Lift | J26: =SUM(H26-I26) -> 0 | L26: Entertainment | M26: =I56 -> 0 | O26: =SUM(M26/L5) -> #DIV/0!
B27: Cable/Internet | E27: =SUM(C27-D27) -> 0 | J27: =SUM(H27-I27) -> 0 | L27: Loans & Lines of Credit | M27: =D65 -> 0 | O27: =SUM(M27/L5) -> #DIV/0!
B28: Insurance | E28: =SUM(C28-D28) -> 0 | J28: =SUM(H28-I28) -> 0 | L28: Pet Expenses | M28: =I65 -> 0 | O28: =SUM(M28/L5) -> #DIV/0!
E29: =SUM(C29-D29) -> 0 | J29: =SUM(H29-I29) -> 0 | L29: Gifts & Donations | M29: =SUM(D73) -> 0 | N29: =SUM(M29/L5) -> #DIV/0!
E30: =SUM(C30-D30) -> 0 | J30: =SUM(H30-I30) -> 0 | L30: Misc. | M30: =SUM(I73) -> 0 | O30: =SUM(M30/L5) -> #DIV/0!
B31: Total | C31: =SUM(C21:C30) -> 0 | D31: =SUM(D21:D30) -> 0 | E31: =SUM(E21:E30) -> 0 | G31: Total | H31: =SUM(H21:H30) -> 0 | I31: =SUM(I21:I30) -> 0 | J31: =SUM(J21:J30) -> 0 | L31: Total | M31: =SUM(M21:N30) -> #DIV/0! | O31: =SUM(M31/L5) -> #DIV/0!
B34: FOOD | G34: CHILD CARE | L34: SAVINGS SUMMARY
B35: What's it for | C35: Budget | D35: Spent | E35: Balance | G35: What's it for | H35: Budget | I35: Spent | J35: Balance | L35: ACCOUNT | P35: BALANCE
B36: Groceries | E36: =SUM(C36-D36) -> 0 | G36: Child Care | J36: =SUM(H36-I36) -> 0 | L36: =G6 -> Emergency Fund | O36: =I6 -> 0
B37: Dining Out | E37: =SUM(C37-D37) -> 0 | G37: Clothes/Shoes | J37: =SUM(H37-I37) -> 0 | L37: =G7 -> Short-Term Savings | O37: =I7 -> 0
B38: Meal Prep | E38: =SUM(C38-D38) -> 0 | G38: School Supplies | J38: =SUM(H38-I38) -> 0 | L38: =G8 -> Long-Term Savings | O38: =I8 -> 0
B39: Vitamins | E39: =SUM(C39-D39) -> 0 | G39: Sports/Activities | J39: =SUM(H39-I39) -> 0 | L39: =G9 -> Stocks | O39: =I9 -> 0
B40: Wine/Beer/etc. | E40: =SUM(C40-D40) -> 0 | G40: Birthdays | J40: =SUM(H40-I40) -> 0 | L40: =G10 -> Retirement | O40: =I10 -> 0
B41: Grubhub | E41: =SUM(C41-D41) -> 0 | G41: Child Support | J41: =SUM(H41-I41) -> 0 | L41: =G11 -> Goal Savings | O41: =I11 -> 0
E42: =SUM(C42-D42) -> 0 | J42: =SUM(H42-I42) -> 0 | L42: =G12 -> Other | O42: =I12 -> 0
E43: =SUM(C43-D43) -> 0 | J43: =SUM(H43-I43) -> 0 | L43: =G13 -> Other | O43: =I13 -> 0
B44: Total | C44: =SUM(C36:C43) -> 0 | D44: =SUM(D36:D43) -> 0 | E44: =SUM(E36:E43) -> 0 | G44: Total | H44: =SUM(H36:H43) -> 0 | I44: =SUM(I36:I43) -> 0 | J44: =SUM(J36:J43) -> 0 | L44: Total | O44: =SUM(P36:P43) -> 0
B46: PERSONAL CARE | G46: ENTERTAINMENT | L46: AMOUNT SAVED BY ACCOUNT
...

Sheet JULY
B2: JULY BUDGET | L2: BUDGET | R2: EXPENSE TRACKER | W2: CATEGORY TOTALS
B4: INCOME | G4: SAVINGS | L4: TOTAL INCOME | M4: PERCENTAGE OF INCOME SAVED & SPENT | R4: Date | S4: Amount | T4: Description | U4: Category | W4: Category Totals | X4: Amount
C5: Budget | D5: Actual | E5: Difference | H5: Budget | I5: Actual | J5: Difference | L5: =SUM(D14) -> 0 | W5: Housing | X5: =SUMIF(U5:U349, Z5,S5:S349) -> 0 | Z5: Housing
B6: Pay Check | C6: 0 | D6: 0 | E6: =SUM(C6-D6) -> 0 | G6: Emergency Fund | H6: 0 | I6: 0 | J6: =SUM(H6-I6) -> 0 | Z6: Transportation
B7: Pay Check | C7: 0 | D7: 0 | E7: =SUM(C7-D7) -> 0 | G7: Short-Term Savings | H7: 0 | I7: 0 | J7: =SUM(H7-I7) -> 0 | L7: TOTAL SPENDING | W7: Transportation | X7: =SUMIF(U5:U349,Z6,S5:S349) -> 0 | Z7: Food
B8: Tips | C8: 0 | D8: 0 | E8: =SUM(C8-D8) -> 0 | G8: Long-Term Savings | H8: 0 | I8: 0 | J8: =SUM(H8-I8) -> 0 | L8: =SUM(D31+I31+I44+D44+D56+I56+D65+I65+I73+D73) -> 0 | Z8: Child Care
B9: Other | C9: 0 | D9: 0 | E9: =SUM(C9-D9) -> 0 | G9: Stocks | H9: 0 | I9: 0 | J9: =SUM(H9-I9) -> 0 | W9: Food | X9: =SUMIF(U5:U349, Z7,S5:S349) -> 0 | Z9: Personal Care
E10: =SUM(C10-D10) -> 0 | G10: Retirement | I10: 0 | J10: =SUM(H10-I10) -> 0 | L10: CASH LEFT OVER | Z10: Entertainment
E11: =SUM(C11-D11) -> 0 | G11: Goal Savings | I11: 0 | J11: =SUM(H11-I11) -> 0 | L11: =SUM(L5-L8) -> 0 | W11: Child Care | X11: =SUMIF(U5:U349, Z8,S5:S349) -> 0 | Z11: Credit Cards
E12: =SUM(C12-D12) -> 0 | G12: Other | I12: 0 | J12: =SUM(H12-I12) -> 0 | Z12: Pet Expenses
E13: =SUM(C13-D13) -> 0 | G13: Other | I13: 0 | J13: =SUM(H13-I13) -> 0 | L13: TOTAL LOAN PAYMENTS | W13: Personal Care | X13: =SUMIF(U5:U349, Z9,S5:S349) -> 0 | Z13: Gifts & Donations
B14: Total | C14: =SUM(C6:C13) -> 0 | D14: =SUM(D6:D13) -> 0 | E14: =SUM(E6:E13) -> 0 | G14: Total | H14: =SUM(H6:H13) -> 0 | I14: =SUM(I6:I13) -> 0 | J14: =SUM(J6:J13) -> 0 | L14: =SUM(D65) -> 0 | Z14: Misc. Expenses
W15: Entertainment | X15: =SUMIF(U5:U349, Z10,S5:S349) -> 0
B16: EXPENSES | L16: TOTAL SAVINGS
L17: =SUM(I14) -> 0 | W17: Loans & Credit Cards | X17: =SUMIF(U5:U349, Z11,S5:S349) -> 0
B19: HOUSING | G19: TRANSPORTATION | L19: PERCENTAGE OF SPENDING BY CATEGORY | W19: Pet Expenses | X19: =SUMIF(U5:U349, Z12,S5:S349) -> 0
B20: What's it for | C20: Budget | D20: Spent | E20: Balance | G20: What's it for | H20: Budget | I20: Spent | J20: Balance | L20: ITEM | M20: AMOUNT | O20: % OF SPENDING | W20: Gifts & Donations | X20: =SUMIF(U5:U349, Z13,S5:S349) -> 0
B21: Rent/Mortgage | E21: =SUM(C21-D21) -> 0 | G21: Car Payment | J21: =SUM(H21-I21) -> 0 | L21: Housing | M21: =SUM(D31) -> 0 | O21: =SUM(M21/$L$5) -> #DIV/0!
B22: Electricity | E22: =SUM(C22-D22) -> 0 | G22: Insurance | J22: =SUM(H22-I22) -> 0 | L22: Transportation | M22: =I31 -> 0 | O22: =SUM(M22/L5) -> #DIV/0! | W22: Misc. Expenses | X22: =SUMIF(U5:U349, Z14,S5:S349) -> 0
B23: Water/Sewer | E23: =SUM(C23-D23) -> 0 | G23: Fuel | J23: =SUM(H23-I23) -> 0 | L23: Food | M23: =D44 -> 0 | O23: =SUM(M23/L5) -> #DIV/0!
B24: Gas | E24: =SUM(C24-D24) -> 0 | G24: Maintenance | J24: =SUM(H24-I24) -> 0 | L24: Child Care | M24: =I44 -> 0 | O24: =SUM(M24/L5) -> #DIV/0!
B25: Garbage | E25: =SUM(C25-D25) -> 0 | G25: Licensing Fees | J25: =SUM(H25-I25) -> 0 | L25: Personal Care | M25: =D56 -> 0 | O25: =SUM(M25/L5) -> #DIV/0!
B26: Cell Phone | E26: =SUM(C26-D26) -> 0 | G26: Uber/Lift | J26: =SUM(H26-I26) -> 0 | L26: Entertainment | M26: =I56 -> 0 | O26: =SUM(M26/L5) -> #DIV/0!
B27: Cable/Internet | E27: =SUM(C27-D27) -> 0 | J27: =SUM(H27-I27) -> 0 | L27: Loans & Lines of Credit | M27: =D65 -> 0 | O27: =SUM(M27/L5) -> #DIV/0!
B28: Insurance | E28: =SUM(C28-D28) -> 0 | J28: =SUM(H28-I28) -> 0 | L28: Pet Expenses | M28: =I65 -> 0 | O28: =SUM(M28/L5) -> #DIV/0!
E29: =SUM(C29-D29) -> 0 | J29: =SUM(H29-I29) -> 0 | L29: Gifts & Donations | M29: =SUM(D73) -> 0 | N29: =SUM(M29/L5) -> #DIV/0!
E30: =SUM(C30-D30) -> 0 | J30: =SUM(H30-I30) -> 0 | L30: Misc. | M30: =SUM(I73) -> 0 | O30: =SUM(M30/L5) -> #DIV/0!
B31: Total | C31: =SUM(C21:C30) -> 0 | D31: =SUM(D21:D30) -> 0 | E31: =SUM(E21:E30) -> 0 | G31: Total | H31: =SUM(H21:H30) -> 0 | I31: =SUM(I21:I30) -> 0 | J31: =SUM(J21:J30) -> 0 | L31: Total | M31: =SUM(M21:N30) -> #DIV/0! | O31: =SUM(M31/L5) -> #DIV/0!
B34: FOOD | G34: CHILD CARE | L34: SAVINGS SUMMARY
B35: What's it for | C35: Budget | D35: Spent | E35: Balance | G35: What's it for | H35: Budget | I35: Spent | J35: Balance | L35: ACCOUNT | P35: BALANCE
B36: Groceries | E36: =SUM(C36-D36) -> 0 | G36: Child Care | J36: =SUM(H36-I36) -> 0 | L36: =G6 -> Emergency Fund | O36: =I6 -> 0
B37: Dining Out | E37: =SUM(C37-D37) -> 0 | G37: Clothes/Shoes | J37: =SUM(H37-I37) -> 0 | L37: =G7 -> Short-Term Savings | O37: =I7 -> 0
B38: Meal Prep | E38: =SUM(C38-D38) -> 0 | G38: School Supplies | J38: =SUM(H38-I38) -> 0 | L38: =G8 -> Long-Term Savings | O38: =I8 -> 0
B39: Vitamins | E39: =SUM(C39-D39) -> 0 | G39: Sports/Activities | J39: =SUM(H39-I39) -> 0 | L39: =G9 -> Stocks | O39: =I9 -> 0
B40: Wine/Beer/etc. | E40: =SUM(C40-D40) -> 0 | G40: Birthdays | J40: =SUM(H40-I40) -> 0 | L40: =G10 -> Retirement | O40: =I10 -> 0
B41: Grubhub | E41: =SUM(C41-D41) -> 0 | G41: Child Support | J41: =SUM(H41-I41) -> 0 | L41: =G11 -> Goal Savings | O41: =I11 -> 0
E42: =SUM(C42-D42) -> 0 | J42: =SUM(H42-I42) -> 0 | L42: =G12 -> Other | O42: =I12 -> 0
E43: =SUM(C43-D43) -> 0 | J43: =SUM(H43-I43) -> 0 | L43: =G13 -> Other | O43: =I13 -> 0
B44: Total | C44: =SUM(C36:C43) -> 0 | D44: =SUM(D36:D43) -> 0 | E44: =SUM(E36:E43) -> 0 | G44: Total | H44: =SUM(H36:H43) -> 0 | I44: =SUM(I36:I43) -> 0 | J44: =SUM(J36:J43) -> 0 | L44: Total | O44: =SUM(P36:P43) -> 0
B46: PERSONAL CARE | G46: ENTERTAINMENT | L46: AMOUNT SAVED BY ACCOUNT
...

Sheet AUGUST
B2: AUGUST BUDGET | L2: BUDGET | R2: EXPENSE TRACKER | W2: CATEGORY TOTALS
B4: INCOME | G4: SAVINGS | L4: TOTAL INCOME | M4: PERCENTAGE OF INCOME SAVED & SPENT | R4: Date | S4: Amount | T4: Description | U4: Category | W4: Category Totals | X4: Amount
C5: Budget | D5: Actual | E5: Difference | H5: Budget | I5: Actual | J5: Difference | L5: =SUM(D14) -> 0 | W5: Housing | X5: =SUMIF(U5:U349, Z5,S5:S349) -> 0 | Z5: Housing
B6: Pay Check | C6: 0 | D6: 0 | E6: =SUM(C6-D6) -> 0 | G6: Emergency Fund | H6: 0 | I6: 0 | J6: =SUM(H6-I6) -> 0 | Z6: Transportation
B7: Pay Check | C7: 0 | D7: 0 | E7: =SUM(C7-D7) -> 0 | G7: Short-Term Savings | H7: 0 | I7: 0 | J7: =SUM(H7-I7) -> 0 | L7: TOTAL SPENDING | W7: Transportation | X7: =SUMIF(U5:U349,Z6,S5:S349) -> 0 | Z7: Food
B8: Tips | C8: 0 | D8: 0 | E8: =SUM(C8-D8) -> 0 | G8: Long-Term Savings | H8: 0 | I8: 0 | J8: =SUM(H8-I8) -> 0 | L8: =SUM(D31+I31+I44+D44+D56+I56+D65+I65+I73+D73) -> 0 | Z8: Child Care
B9: Other | C9: 0 | D9: 0 | E9: =SUM(C9-D9) -> 0 | G9: Stocks | H9: 0 | I9: 0 | J9: =SUM(H9-I9) -> 0 | W9: Food | X9: =SUMIF(U5:U349, Z7,S5:S349) -> 0 | Z9: Personal Care
E10: =SUM(C10-D10) -> 0 | G10: Retirement | I10: 0 | J10: =SUM(H10-I10) -> 0 | L10: CASH LEFT OVER | Z10: Entertainment
E11: =SUM(C11-D11) -> 0 | G11: Goal Savings | I11: 0 | J11: =SUM(H11-I11) -> 0 | L11: =SUM(L5-L8) -> 0 | W11: Child Care | X11: =SUMIF(U5:U349, Z8,S5:S349) -> 0 | Z11: Credit Cards
E12: =SUM(C12-D12) -> 0 | G12: Other | I12: 0 | J12: =SUM(H12-I12) -> 0 | Z12: Pet Expenses
E13: =SUM(C13-D13) -> 0 | G13: Other | I13: 0 | J13: =SUM(H13-I13) -> 0 | L13: TOTAL LOAN PAYMENTS | W13: Personal Care | X13: =SUMIF(U5:U349, Z9,S5:S349) -> 0 | Z13: Gifts & Donations
B14: Total | C14: =SUM(C6:C13) -> 0 | D14: =SUM(D6:D13) -> 0 | E14: =SUM(E6:E13) -> 0 | G14: Total | H14: =SUM(H6:H13) -> 0 | I14: =SUM(I6:I13) -> 0 | J14: =SUM(J6:J13) -> 0 | L14: =SUM(D65) -> 0 | Z14: Misc. Expenses
W15: Entertainment | X15: =SUMIF(U5:U349, Z10,S5:S349) -> 0
B16: EXPENSES | L16: TOTAL SAVINGS
L17: =SUM(I14) -> 0 | W17: Loans & Credit Cards | X17: =SUMIF(U5:U349, Z11,S5:S349) -> 0
B19: HOUSING | G19: TRANSPORTATION | L19: PERCENTAGE OF SPENDING BY CATEGORY | W19: Pet Expenses | X19: =SUMIF(U5:U349, Z12,S5:S349) -> 0
B20: What's it for | C20: Budget | D20: Spent | E20: Balance | G20: What's it for | H20: Budget | I20: Spent | J20: Balance | L20: ITEM | M20: AMOUNT | O20: % OF SPENDING | W20: Gifts & Donations | X20: =SUMIF(U5:U349, Z13,S5:S349) -> 0
B21: Rent/Mortgage | E21: =SUM(C21-D21) -> 0 | G21: Car Payment | J21: =SUM(H21-I21) -> 0 | L21: Housing | M21: =SUM(D31) -> 0 | O21: =SUM(M21/$L$5) -> #DIV/0!
B22: Electricity | E22: =SUM(C22-D22) -> 0 | G22: Insurance | J22: =SUM(H22-I22) -> 0 | L22: Transportation | M22: =I31 -> 0 | O22: =SUM(M22/L5) -> #DIV/0! | W22: Misc. Expenses | X22: =SUMIF(U5:U349, Z14,S5:S349) -> 0
B23: Water/Sewer | E23: =SUM(C23-D23) -> 0 | G23: Fuel | J23: =SUM(H23-I23) -> 0 | L23: Food | M23: =D44 -> 0 | O23: =SUM(M23/L5) -> #DIV/0!
B24: Gas | E24: =SUM(C24-D24) -> 0 | G24: Maintenance | J24: =SUM(H24-I24) -> 0 | L24: Child Care | M24: =I44 -> 0 | O24: =SUM(M24/L5) -> #DIV/0!
B25: Garbage | E25: =SUM(C25-D25) -> 0 | G25: Licensing Fees | J25: =SUM(H25-I25) -> 0 | L25: Personal Care | M25: =D56 -> 0 | O25: =SUM(M25/L5) -> #DIV/0!
B26: Cell Phone | E26: =SUM(C26-D26) -> 0 | G26: Uber/Lift | J26: =SUM(H26-I26) -> 0 | L26: Entertainment | M26: =I56 -> 0 | O26: =SUM(M26/L5) -> #DIV/0!
B27: Cable/Internet | E27: =SUM(C27-D27) -> 0 | J27: =SUM(H27-I27) -> 0 | L27: Loans & Lines of Credit | M27: =D65 -> 0 | O27: =SUM(M27/L5) -> #DIV/0!
B28: Insurance | E28: =SUM(C28-D28) -> 0 | J28: =SUM(H28-I28) -> 0 | L28: Pet Expenses | M28: =I65 -> 0 | O28: =SUM(M28/L5) -> #DIV/0!
E29: =SUM(C29-D29) -> 0 | J29: =SUM(H29-I29) -> 0 | L29: Gifts & Donations | M29: =SUM(D73) -> 0 | N29: =SUM(M29/L5) -> #DIV/0!
E30: =SUM(C30-D30) -> 0 | J30: =SUM(H30-I30) -> 0 | L30: Misc. | M30: =SUM(I73) -> 0 | O30: =SUM(M30/L5) -> #DIV/0!
B31: Total | C31: =SUM(C21:C30) -> 0 | D31: =SUM(D21:D30) -> 0 | E31: =SUM(E21:E30) -> 0 | G31: Total | H31: =SUM(H21:H30) -> 0 | I31: =SUM(I21:I30) -> 0 | J31: =SUM(J21:J30) -> 0 | L31: Total | M31: =SUM(M21:N30) -> #DIV/0! | O31: =SUM(M31/L5) -> #DIV/0!
B34: FOOD | G34: CHILD CARE | L34: SAVINGS SUMMARY
B35: What's it for | C35: Budget | D35: Spent | E35: Balance | G35: What's it for | H35: Budget | I35: Spent | J35: Balance | L35: ACCOUNT | P35: BALANCE
B36: Groceries | E36: =SUM(C36-D36) -> 0 | G36: Child Care | J36: =SUM(H36-I36) -> 0 | L36: =G6 -> Emergency Fund | O36: =I6 -> 0
B37: Dining Out | E37: =SUM(C37-D37) -> 0 | G37: Clothes/Shoes | J37: =SUM(H37-I37) -> 0 | L37: =G7 -> Short-Term Savings | O37: =I7 -> 0
B38: Meal Prep | E38: =SUM(C38-D38) -> 0 | G38: School Supplies | J38: =SUM(H38-I38) -> 0 | L38: =G8 -> Long-Term Savings | O38: =I8 -> 0
B39: Vitamins | E39: =SUM(C39-D39) -> 0 | G39: Sports/Activities | J39: =SUM(H39-I39) -> 0 | L39: =G9 -> Stocks | O39: =I9 -> 0
B40: Wine/Beer/etc. | E40: =SUM(C40-D40) -> 0 | G40: Birthdays | J40: =SUM(H40-I40) -> 0 | L40: =G10 -> Retirement | O40: =I10 -> 0
B41: Grubhub | E41: =SUM(C41-D41) -> 0 | G41: Child Support | J41: =SUM(H41-I41) -> 0 | L41: =G11 -> Goal Savings | O41: =I11 -> 0
E42: =SUM(C42-D42) -> 0 | J42: =SUM(H42-I42) -> 0 | L42: =G12 -> Other | O42: =I12 -> 0
E43: =SUM(C43-D43) -> 0 | J43: =SUM(H43-I43) -> 0 | L43: =G13 -> Other | O43: =I13 -> 0
B44: Total | C44: =SUM(C36:C43) -> 0 | D44: =SUM(D36:D43) -> 0 | E44: =SUM(E36:E43) -> 0 | G44: Total | H44: =SUM(H36:H43) -> 0 | I44: =SUM(I36:I43) -> 0 | J44: =SUM(J36:J43) -> 0 | L44: Total | O44: =SUM(P36:P43) -> 0
B46: PERSONAL CARE | G46: ENTERTAINMENT | L46: AMOUNT SAVED BY ACCOUNT
...

Sheet SEPTEMBER
B2: SEPTEMBER BUDGET | L2: BUDGET | R2: EXPENSE TRACKER | W2: CATEGORY TOTALS
B4: INCOME | G4: SAVINGS | L4: TOTAL INCOME | M4: PERCENTAGE OF INCOME SAVED & SPENT | R4: Date | S4: Amount | T4: Description | U4: Category | W4: Category Totals | X4: Amount
C5: Budget | D5: Actual | E5: Difference | H5: Budget | I5: Actual | J5: Difference | L5: =SUM(D14) -> 0 | W5: Housing | X5: =SUMIF(U5:U349, Z5,S5:S349) -> 0 | Z5: Housing
B6: Pay Check | C6: 0 | D6: 0 | E6: =SUM(C6-D6) -> 0 | G6: Emergency Fund | H6: 0 | I6: 0 | J6: =SUM(H6-I6) -> 0 | Z6: Transportation
B7: Pay Check | C7: 0 | D7: 0 | E7: =SUM(C7-D7) -> 0 | G7: Short-Term Savings | H7: 0 | I7: 0 | J7: =SUM(H7-I7) -> 0 | L7: TOTAL SPENDING | W7: Transportation | X7: =SUMIF(U5:U349,Z6,S5:S349) -> 0 | Z7: Food
B8: Tips | C8: 0 | D8: 0 | E8: =SUM(C8-D8) -> 0 | G8: Long-Term Savings | H8: 0 | I8: 0 | J8: =SUM(H8-I8) -> 0 | L8: =SUM(D31+I31+I44+D44+D56+I56+D65+I65+I73+D73) -> 0 | Z8: Child Care
B9: Other | C9: 0 | D9: 0 | E9: =SUM(C9-D9) -> 0 | G9: Stocks | H9: 0 | I9: 0 | J9: =SUM(H9-I9) -> 0 | W9: Food | X9: =SUMIF(U5:U349, Z7,S5:S349) -> 0 | Z9: Personal Care
E10: =SUM(C10-D10) -> 0 | G10: Retirement | J10: =SUM(H10-I10) -> 0 | L10: CASH LEFT OVER | Z10: Entertainment
E11: =SUM(C11-D11) -> 0 | G11: Goal Savings | J11: =SUM(H11-I11) -> 0 | L11: =SUM(L5-L8) -> 0 | W11: Child Care | X11: =SUMIF(U5:U349, Z8,S5:S349) -> 0 | Z11: Credit Cards
E12: =SUM(C12-D12) -> 0 | G12: Other | J12: =SUM(H12-I12) -> 0 | Z12: Pet Expenses
E13: =SUM(C13-D13) -> 0 | G13: Other | J13: =SUM(H13-I13) -> 0 | L13: TOTAL LOAN PAYMENTS | W13: Personal Care | X13: =SUMIF(U5:U349, Z9,S5:S349) -> 0 | Z13: Gifts & Donations
B14: Total | C14: =SUM(C6:C13) -> 0 | D14: =SUM(D6:D13) -> 0 | E14: =SUM(E6:E13) -> 0 | G14: Total | H14: =SUM(H6:H13) -> 0 | I14: =SUM(I6:I13) -> 0 | J14: =SUM(J6:J13) -> 0 | L14: =SUM(D65) -> 0 | Z14: Misc. Expenses
W15: Entertainment | X15: =SUMIF(U5:U349, Z10,S5:S349) -> 0
B16: EXPENSES | L16: TOTAL SAVINGS
L17: =SUM(I14) -> 0 | W17: Loans & Credit Cards | X17: =SUMIF(U5:U349, Z11,S5:S349) -> 0
B19: HOUSING | G19: TRANSPORTATION | L19: PERCENTAGE OF SPENDING BY CATEGORY | W19: Pet Expenses | X19: =SUMIF(U5:U349, Z12,S5:S349) -> 0
B20: What's it for | C20: Budget | D20: Spent | E20: Balance | G20: What's it for | H20: Budget | I20: Spent | J20: Balance | L20: ITEM | M20: AMOUNT | O20: % OF SPENDING | W20: Gifts & Donations | X20: =SUMIF(U5:U349, Z13,S5:S349) -> 0
B21: Rent/Mortgage | E21: =SUM(C21-D21) -> 0 | G21: Car Payment | J21: =SUM(H21-I21) -> 0 | L21: Housing | M21: =SUM(D31) -> 0 | O21: =SUM(M21/$L$5) -> #DIV/0!
B22: Electricity | E22: =SUM(C22-D22) -> 0 | G22: Insurance | J22: =SUM(H22-I22) -> 0 | L22: Transportation | M22: =I31 -> 0 | O22: =SUM(M22/L5) -> #DIV/0! | W22: Misc. Expenses | X22: =SUMIF(U5:U349, Z14,S5:S349) -> 0
B23: Water/Sewer | E23: =SUM(C23-D23) -> 0 | G23: Fuel | J23: =SUM(H23-I23) -> 0 | L23: Food | M23: =D44 -> 0 | O23: =SUM(M23/L5) -> #DIV/0!
B24: Gas | E24: =SUM(C24-D24) -> 0 | G24: Maintenance | J24: =SUM(H24-I24) -> 0 | L24: Child Care | M24: =I44 -> 0 | O24: =SUM(M24/L5) -> #DIV/0!
B25: Garbage | E25: =SUM(C25-D25) -> 0 | G25: Licensing Fees | J25: =SUM(H25-I25) -> 0 | L25: Personal Care | M25: =D56 -> 0 | O25: =SUM(M25/L5) -> #DIV/0!
B26: Cell Phone | E26: =SUM(C26-D26) -> 0 | G26: Uber/Lift | J26: =SUM(H26-I26) -> 0 | L26: Entertainment | M26: =I56 -> 0 | O26: =SUM(M26/L5) -> #DIV/0!
B27: WIFI | E27: =SUM(C27-D27) -> 0 | J27: =SUM(H27-I27) -> 0 | L27: Loans & Lines of Credit | M27: =D65 -> 0 | O27: =SUM(M27/L5) -> #DIV/0!
B28: Insurance | E28: =SUM(C28-D28) -> 0 | J28: =SUM(H28-I28) -> 0 | L28: Pet Expenses | M28: =I65 -> 0 | O28: =SUM(M28/L5) -> #DIV/0!
E29: =SUM(C29-D29) -> 0 | J29: =SUM(H29-I29) -> 0 | L29: Gifts & Donations | M29: =SUM(D73) -> 0 | N29: =SUM(M29/L5) -> #DIV/0!
E30: =SUM(C30-D30) -> 0 | J30: =SUM(H30-I30) -> 0 | L30: Misc. | M30: =SUM(I73) -> 0 | O30: =SUM(M30/L5) -> #DIV/0!
B31: Total | C31: =SUM(C21:C30) -> 0 | D31: =SUM(D21:D30) -> 0 | E31: =SUM(E21:E30) -> 0 | G31: Total | H31: =SUM(H21:H30) -> 0 | I31: =SUM(I21:I30) -> 0 | J31: =SUM(J21:J30) -> 0 | L31: Total | M31: =SUM(M21:N30) -> #DIV/0! | O31: =SUM(M31/L5) -> #DIV/0!
B34: FOOD | G34: CHILD CARE | L34: SAVINGS SUMMARY
B35: What's it for | C35: Budget | D35: Spent | E35: Balance | G35: What's it for | H35: Budget | I35: Spent | J35: Balance | L35: ACCOUNT | P35: BALANCE
B36: Groceries | E36: =SUM(C36-D36) -> 0 | G36: Child Care | J36: =SUM(H36-I36) -> 0 | L36: =G6 -> Emergency Fund | O36: =I6 -> 0
B37: Dining Out | E37: =SUM(C37-D37) -> 0 | G37: Clothes/Shoes | J37: =SUM(H37-I37) -> 0 | L37: =G7 -> Short-Term Savings | O37: =I7 -> 0
B38: Meal Prep | E38: =SUM(C38-D38) -> 0 | G38: School Supplies | J38: =SUM(H38-I38) -> 0 | L38: =G8 -> Long-Term Savings | O38: =I8 -> 0
B39: Vitamins | E39: =SUM(C39-D39) -> 0 | G39: Sports/Activities | J39: =SUM(H39-I39) -> 0 | L39: =G9 -> Stocks | O39: =I9 -> 0
B40: Wine/Beer/etc. | E40: =SUM(C40-D40) -> 0 | G40: Birthdays | J40: =SUM(H40-I40) -> 0 | L40: =G10 -> Retirement | O40: =I10 -> 0
B41: Grubhub | E41: =SUM(C41-D41) -> 0 | G41: Child Support | J41: =SUM(H41-I41) -> 0 | L41: =G11 -> Goal Savings | O41: =I11 -> 0
E42: =SUM(C42-D42) -> 0 | J42: =SUM(H42-I42) -> 0 | L42: =G12 -> Other | O42: =I12 -> 0
E43: =SUM(C43-D43) -> 0 | J43: =SUM(H43-I43) -> 0 | L43: =G13 -> Other | O43: =I13 -> 0
B44: Total | C44: =SUM(C36:C43) -> 0 | D44: =SUM(D36:D43) -> 0 | E44: =SUM(E36:E43) -> 0 | G44: Total | H44: =SUM(H36:H43) -> 0 | I44: =SUM(I36:I43) -> 0 | J44: =SUM(J36:J43) -> 0 | L44: Total | O44: =SUM(P36:P43) -> 0
B46: PERSONAL CARE | G46: ENTERTAINMENT | L46: AMOUNT SAVED BY ACCOUNT
...

Sheet OCTOBER
B2: OCTOBER BUDGET | L2: BUDGET | R2: EXPENSE TRACKER | W2: CATEGORY TOTALS
